BEGIN:VCALENDAR
VERSION:2.0
PRODID:-//ECM Jihlava - ECPv6.15.20//NONSGML v1.0//EN
CALSCALE:GREGORIAN
METHOD:PUBLISH
X-WR-CALNAME:ECM Jihlava
X-ORIGINAL-URL:https://www.ecmjihlava.cz
X-WR-CALDESC:Akce na ECM Jihlava
REFRESH-INTERVAL;VALUE=DURATION:PT1H
X-Robots-Tag:noindex
X-PUBLISHED-TTL:PT1H
BEGIN:VTIMEZONE
TZID:Europe/Paris
BEGIN:DAYLIGHT
TZOFFSETFROM:+0100
TZOFFSETTO:+0200
TZNAME:CEST
DTSTART:20160327T010000
END:DAYLIGHT
BEGIN:STANDARD
TZOFFSETFROM:+0200
TZOFFSETTO:+0100
TZNAME:CET
DTSTART:20161030T010000
END:STANDARD
BEGIN:DAYLIGHT
TZOFFSETFROM:+0100
TZOFFSETTO:+0200
TZNAME:CEST
DTSTART:20170326T010000
END:DAYLIGHT
BEGIN:STANDARD
TZOFFSETFROM:+0200
TZOFFSETTO:+0100
TZNAME:CET
DTSTART:20171029T010000
END:STANDARD
BEGIN:DAYLIGHT
TZOFFSETFROM:+0100
TZOFFSETTO:+0200
TZNAME:CEST
DTSTART:20180325T010000
END:DAYLIGHT
BEGIN:STANDARD
TZOFFSETFROM:+0200
TZOFFSETTO:+0100
TZNAME:CET
DTSTART:20181028T010000
END:STANDARD
BEGIN:DAYLIGHT
TZOFFSETFROM:+0100
TZOFFSETTO:+0200
TZNAME:CEST
DTSTART:20190331T010000
END:DAYLIGHT
BEGIN:STANDARD
TZOFFSETFROM:+0200
TZOFFSETTO:+0100
TZNAME:CET
DTSTART:20191027T010000
END:STANDARD
BEGIN:DAYLIGHT
TZOFFSETFROM:+0100
TZOFFSETTO:+0200
TZNAME:CEST
DTSTART:20200329T010000
END:DAYLIGHT
BEGIN:STANDARD
TZOFFSETFROM:+0200
TZOFFSETTO:+0100
TZNAME:CET
DTSTART:20201025T010000
END:STANDARD
BEGIN:DAYLIGHT
TZOFFSETFROM:+0100
TZOFFSETTO:+0200
TZNAME:CEST
DTSTART:20210328T010000
END:DAYLIGHT
BEGIN:STANDARD
TZOFFSETFROM:+0200
TZOFFSETTO:+0100
TZNAME:CET
DTSTART:20211031T010000
END:STANDARD
BEGIN:DAYLIGHT
TZOFFSETFROM:+0100
TZOFFSETTO:+0200
TZNAME:CEST
DTSTART:20220327T010000
END:DAYLIGHT
BEGIN:STANDARD
TZOFFSETFROM:+0200
TZOFFSETTO:+0100
TZNAME:CET
DTSTART:20221030T010000
END:STANDARD
END:VTIMEZONE
BEGIN:VEVENT
DTSTART;VALUE=DATE:20210807
DTEND;VALUE=DATE:20210815
DTSTAMP:20260424T173155
CREATED:20210219T074204Z
LAST-MODIFIED:20250403T204336Z
UID:4700-1628294400-1628985599@www.ecmjihlava.cz
SUMMARY:Dětský tábor "Svět Narnie"
DESCRIPTION:Křesťanský tábor v krásném\, plně vybaveném rekreačním areálu Poušť. Děti zažijí spoustu legrace a her\, tvoření\, sportování\, výlety\, koupání a dozvědí se něco víc o sobě a o životě s Bohem. \nKdy: od soboty 7. 8. do soboty 14. 8. 2021\nKde: Poušť u Bechyně\nKdo: pro děti od absolvované 1. třídy do 12 let (podrobnosti k věku viz přihlašovací formulář!)\nCena: 2 500\,- Kč \nPřihlašování je ukončeno – v případě zájmu o účast na táboře kontaktujte přímo Jitku Buchtovou.\nKapacita je omezená.\nVeškeré potřebné informace najdete v přihlašovacím formuláři a následujících dokumentech:\nPřihlašovací formulář\nPodrobné informace\nPlakát \nPřihláška není platná bez odeslání zálohy 1000 Kč na účet číslo 2000955295/2010\, VS 07082021\, do poznámky uveďte jméno dítěte.\nDoplatky odešlete do 4. 4. 2021.
URL:https://www.ecmjihlava.cz/akce/detsky-tabor-svet-narnie/
LOCATION:Poušť u Bechyně\, 49.3068881N\, 14.4615828E\, Bechyně
ATTACH;FMTTYPE=image/jpeg:https://www.ecmjihlava.cz/wp-content/uploads/2021/Aktuality/lev.jpg
END:VEVENT
BEGIN:VEVENT
DTSTART;VALUE=DATE:20200808
DTEND;VALUE=DATE:20200816
DTSTAMP:20260424T173155
CREATED:20200324T141036Z
LAST-MODIFIED:20250403T204429Z
UID:4120-1596844800-1597535999@www.ecmjihlava.cz
SUMMARY:Dětský tábor „Dobrodružství v Polínkově“
DESCRIPTION:Křesťanský tábor v krásném\, plně vybaveném rekreačním areálu Poušť. Děti zažijí spoustu legrace a her\, tvoření\, sportování\, výlety\, koupání a dozvědí se něco víc o sobě a o životě s Bohem. \nKdy: od soboty 8. 8. do soboty 15. 8. 2020\nKde: Poušť u Bechyně\nKdo: pro děti od absolvované 1. třídy do 12 let (podrobnosti k věku viz přihlašovací formulář!)\nCena: 2 300\,- Kč \nKapacita je omezená.\nVeškeré potřebné informace najdete v přihlašovacím formuláři a následujících dokumentech:\nPřihlašovací formulář\nPodrobné informace\nPlakát \nPřihláška není platná bez odeslání zálohy 1000 Kč na účet číslo 2000955295/2010\, VS 08082020\, do poznámky uveďte jméno dítěte.\nDoplatky odešlete do 5. 5. 2020.
URL:https://www.ecmjihlava.cz/akce/detsky-tabor-dobrodruzstvi-v-polinkove/
LOCATION:Poušť u Bechyně\, 49.3068881N\, 14.4615828E\, Bechyně
ATTACH;FMTTYPE=image/jpeg:https://www.ecmjihlava.cz/wp-content/uploads/2020/Aktuality/tabor_maly.jpg
END:VEVENT
BEGIN:VEVENT
DTSTART;VALUE=DATE:20170812
DTEND;VALUE=DATE:20170820
DTSTAMP:20260424T173155
CREATED:20170601T122450Z
LAST-MODIFIED:20250403T204446Z
UID:847-1502496000-1503187199@www.ecmjihlava.cz
SUMMARY:Dětský tábor Tomova dobrodružství
DESCRIPTION:Také letos pořádáme tábor pro děti pod názvem „Tomova dobrodružství“.\nDěti mohou prožít týden v krásném\, plně vybaveném rekreačním areálu Pouště a opět zažít spoustu legrace\, her\, vyrobit si něco hezkého\, zasportovat si\, užít si výlety\, koupání a dozvědět se také něco víc o sobě a o životě s Bohem.\nKdy: od soboty 12. 8. do soboty 19. 8. 2017\nKdo: děti od 6 do 12 let (počet omezen max. 40 dětí + vedoucí)\nKde: Poušť u Bechyně\nCena: 1 850\,- Kč\n(praktikanti 15 – 17 let cena 1000\,- Kč) \nPodrobné informace \nPřihlašování
URL:https://www.ecmjihlava.cz/akce/detsky-tabor-tomova-dobrodruzstvi/
LOCATION:Poušť u Bechyně\, 49.3068881N\, 14.4615828E\, Bechyně
ATTACH;FMTTYPE=image/jpeg:https://www.ecmjihlava.cz/wp-content/uploads/2017/06/PlakatDetskyTabor_maly.jpg
END:VEVENT
END:VCALENDAR